BEGIN:VCALENDAR
PRODID:-//srcat10077//EN
VERSION:2.0
BEGIN:VEVENT
SUMMARY:Catherine Southon Auctioneers &amp; Valuers: Silver, Watches, Jewellery &amp; Luxury Accesories - May 2026
PRIORITY:0
CLASS:PUBLIC
DTSTART:20260520T090000Z
DTEND:20260520T225900Z
DESCRIPTION:
X-ALT-DESC;FMTTYPE=text/html:
LOCATION:Kingsley House, 5 High Street, Chislehurst, Kent,   , BR7 5AB, United Kingdom
END:VEVENT
END:VCALENDAR